BEGIN:VCALENDAR
VERSION:2.0
PRODID:-//chikkutakku.com//RDFCal 1.0//EN
X-WR-CALDESC:GoogleカレンダーやiCalendar形式情報を共有シェ
 アしましょう。近所のイベントから全国のイベントま
 で今日のイベント検索やスケジュールを決めるならち
 っくたっく
X-WR-CALNAME:ちっくたっく
X-WR-TIMEZONE:UTC
BEGIN:VEVENT
SUMMARY:【注】恋とプロデューサー #1 はじまりの絆 / #2 
 風吹く時に / #3 追憶の味 / #4 闇の中の鍵 / #5 琥珀色の
 風 / #6 その夢の向こう / #7 繋がった記憶 / #8 404号室 / #9
  モノクローム / #10 別れの夜明け / #11 めぐる時の果て
 に / #12 絆
DTSTART;VALUE=DATE-TIME:20260421T010000Z
DTEND;VALUE=DATE-TIME:20260421T070000Z
UID:116398345822
DESCRIPTION: / #1 はじまりの絆 / #2 風吹く時に / #3 追憶の
 味 / #4 闇の中の鍵 / #5 琥珀色の風 / #6 その夢の向こう /
  #7 繋がった記憶 / #8 404号室 / #9 モノクローム / #10 別れ
 の夜明け / #11 めぐる時の果てに / #12 絆 / https://abema.tv/c
 hannels/anime-live2/slots/FCTA5zgfZtpksR リピート放送は 28:00～ ht
 tps://abema.tv/channels/anime-live2/slots/FCTA6ttLKvHmC3 (無料TS1週間)
LOCATION:アニメLIVE2
END:VEVENT
END:VCALENDAR
