BEGIN:VCALENDAR
VERSION:2.0
PRODID:-//chikkutakku.com//RDFCal 1.0//EN
X-WR-CALDESC:GoogleカレンダーやiCalendar形式情報を共有シェ
 アしましょう。近所のイベントから全国のイベントま
 で今日のイベント検索やスケジュールを決めるならち
 っくたっく
X-WR-CALNAME:ちっくたっく
X-WR-TIMEZONE:UTC
BEGIN:VEVENT
SUMMARY:5 & 6 to LHS/Christopher Farm & Gardens
DTSTART;VALUE=DATE-TIME:20260519T135000Z
DTEND;VALUE=DATE-TIME:20260519T183500Z
UID:117324002927
DESCRIPTION:5 & 6 to LHS/Christopher Farm & Gardens
LOCATION:
END:VEVENT
END:VCALENDAR
