BEGIN:VCALENDAR
VERSION:2.0
PRODID:-//chikkutakku.com//RDFCal 1.0//EN
X-WR-CALDESC:GoogleカレンダーやiCalendar形式情報を共有シェ
 アしましょう。近所のイベントから全国のイベントま
 で今日のイベント検索やスケジュールを決めるならち
 っくたっく
X-WR-CALNAME:ちっくたっく
X-WR-TIMEZONE:UTC
BEGIN:VEVENT
SUMMARY:Street Food/Cafe/Sweet Designs - Food Truck Visit @ SPC (P4)
DTSTART;VALUE=DATE:20260513
DTEND;VALUE=DATE:20260514
UID:118282524503
DESCRIPTION:Street Food/Cafe/Sweet Designs - Food Truck Visit @ SPC (P4)
LOCATION:
END:VEVENT
END:VCALENDAR
