BEGIN:VCALENDAR
VERSION:2.0
PRODID:-//chikkutakku.com//RDFCal 1.0//EN
X-WR-CALDESC:GoogleカレンダーやiCalendar形式情報を共有シェ
 アしましょう。近所のイベントから全国のイベントま
 で今日のイベント検索やスケジュールを決めるならち
 っくたっく
X-WR-CALNAME:ちっくたっく
X-WR-TIMEZONE:UTC
BEGIN:VEVENT
SUMMARY:アークナイツ OPERATORS!(4)
DTSTART;VALUE=DATE:20260426
DTEND;VALUE=DATE:20260427
UID:118727777130
DESCRIPTION:2026-04-27アークナイツ OPERATORS!(4)狂zip/HYPERGRYPH / 
 Yostar一迅社
LOCATION:
END:VEVENT
END:VCALENDAR
