BEGIN:VCALENDAR
VERSION:2.0
PRODID:-//chikkutakku.com//RDFCal 1.0//EN
X-WR-CALDESC:GoogleカレンダーやiCalendar形式情報を共有シェ
 アしましょう。近所のイベントから全国のイベントま
 で今日のイベント検索やスケジュールを決めるならち
 っくたっく
X-WR-CALNAME:ちっくたっく
X-WR-TIMEZONE:UTC
BEGIN:VEVENT
SUMMARY:★おはよう関西 4/27(月)7:45-8:00 ＮＨＫ総合(近畿広
 域圏 Ch.1)
DTSTART;VALUE=DATE-TIME:20260426T224500Z
DTEND;VALUE=DATE-TIME:20260426T230000Z
UID:118741539035
DESCRIPTION:★おはよう関西4/27(月)7:45-8:00 ＮＨＫ総合(近畿
 広域圏 Ch.1)障害のある人や美術の専門教育を受けてい
 ない人が生む芸術「アール・ブリュット（生の芸術）
 」。既存の技法に囚われない独創性や強い衝動を感じ
 させる躍動感が特徴で、和歌山では１０年前から福祉
 事業団が中心となって、障害のある作家の作品を広め
 る展示を行ってきた。一般社会への認知拡大に課題を
 抱える中、大阪のものづくり企業と協同し「商品」と
 いう形から新しい価値を発信しようとしている。活動
 に込めたおもいを取材した。https://www.web.nhk/tv/an/osaka-oha
 you/
LOCATION:
END:VEVENT
END:VCALENDAR
