BEGIN:VCALENDAR
VERSION:2.0
PRODID:-//chikkutakku.com//RDFCal 1.0//EN
X-WR-CALDESC:GoogleカレンダーやiCalendar形式情報を共有シェ
 アしましょう。近所のイベントから全国のイベントま
 で今日のイベント検索やスケジュールを決めるならち
 っくたっく
X-WR-CALNAME:ちっくたっく
X-WR-TIMEZONE:UTC
BEGIN:VEVENT
SUMMARY:月刊ヤングマガジン 2026年No.5 [2026年4月20日発売]
DTSTART;VALUE=DATE:20260419
DTEND;VALUE=DATE:20260420
UID:118757969414
DESCRIPTION:2026-04-20月刊ヤングマガジン 2026年No.5 [2026年4月
 20日発売]楠みちはる/天野雀/岡沢六十四/るれくちぇ/KENT
 /中丸洋介/あずま京太郎/岡崎武士/加藤文孝/マサイ/竜
 太/板橋大祐/雪魚/ろびこ/misekiss講談社
LOCATION:
END:VEVENT
END:VCALENDAR
