BEGIN:VCALENDAR
VERSION:2.0
PRODID:-//chikkutakku.com//RDFCal 1.0//EN
X-WR-CALDESC:GoogleカレンダーやiCalendar形式情報を共有シェ
 アしましょう。近所のイベントから全国のイベントま
 で今日のイベント検索やスケジュールを決めるならち
 っくたっく
X-WR-CALNAME:ちっくたっく
X-WR-TIMEZONE:UTC
BEGIN:VEVENT
SUMMARY:★えぇトコ 4/30(木)20:15-20:42 ＮＨＫ総合(近畿広域
 圏 Ch.1)
DTSTART;VALUE=DATE-TIME:20260430T111500Z
DTEND;VALUE=DATE-TIME:20260430T114200Z
UID:118910320441
DESCRIPTION:★えぇトコ\n4/30(木)20:15-20:42ＮＨＫ総合(近畿広
 域圏 Ch.1)\n旬の春しらすを求めて　極上グルメ旅！～和
 歌山・湯浅町\nこの時期しか食べられない極上の「春し
 らす丼」を求めて、山田邦子と田中律子がグルメ旅！
 和歌山県湯浅町が誇る伝統のしょうゆ、ご当地みかん
 「三宝柑」も食べ尽くす！\nhttps://www.nhk.jp/p/osaka-eetoko/
LOCATION:
END:VEVENT
END:VCALENDAR
