BEGIN:VCALENDAR
VERSION:2.0
PRODID:-//chikkutakku.com//RDFCal 1.0//EN
X-WR-CALDESC:GoogleカレンダーやiCalendar形式情報を共有シェ
 アしましょう。近所のイベントから全国のイベントま
 で今日のイベント検索やスケジュールを決めるならち
 っくたっく
X-WR-CALNAME:ちっくたっく
X-WR-TIMEZONE:UTC
BEGIN:VEVENT
SUMMARY:(รองฯนพ.เดชา)ขอเชิญประชุ
 มคณะกรรมการบริหารเขตสุขภ
 าพที่๕ครั้ง๔/๒๕๖๙
DTSTART;VALUE=DATE-TIME:20260422T020000Z
DTEND;VALUE=DATE-TIME:20260422T070000Z
UID:119507634965
DESCRIPTION:ขอเลื่อนเวลาการประชุ
 มจากเดิม13.30น-16.30น.เป็น09.00น.-14.00น.
LOCATION:ณ.ห้องประชุมสามัคคี ชั้
 น๕ สสจ.สมุทรสงคราม
END:VEVENT
END:VCALENDAR
