BEGIN:VCALENDAR
VERSION:2.0
PRODID:-//chikkutakku.com//RDFCal 1.0//EN
X-WR-CALDESC:GoogleカレンダーやiCalendar形式情報を共有シェ
 アしましょう。近所のイベントから全国のイベントま
 で今日のイベント検索やスケジュールを決めるならち
 っくたっく
X-WR-CALNAME:ちっくたっく
X-WR-TIMEZONE:UTC
BEGIN:VEVENT
SUMMARY:Online Training - Black Belt Pathway 2026 (Senior Group) - Session
  2
DTSTART;VALUE=DATE-TIME:20260508T200000Z
DTEND;VALUE=DATE-TIME:20260508T210000Z
UID:119531160078
DESCRIPTION:Tips and Instructions for Online Black Belt Pathway Program Ka
 rate TrainingWelcome to the 2026 Black Belt Pathway Program Online Karate 
 Training!To ensure a smooth and productive learning experience for everyon
 e\, please review the following guidelines before joining our online class
 es:Meeting LinkIf you have registered for the Black Belt 2026 Pathway Prog
 ram\, you must have received an email with the subject line &quot\;2026 Bl
 ack Belt Pathway Program - Important Online Class Info&quot\;. Refer to th
 e email to get the Zoom Meeting link and click to join.Training AreaClear 
 Training Space: You&#39\;ll need a designated area with enough clear space
  to move around freely and perform karate techniques. Aim for a space roug
 hly 3m x 3m. Remove any obstacles or fragile items.Suitable Flooring: A no
 n-slip surface is essential to prevent accidents. A matted area is ideal\,
  but a carpeted space can also work. Avoid hard surfaces like concrete or 
 tiles.Good Lighting: Ensure your training area is well-lit so the instruct
 or can see your movements.Background: Be mindful of your background and ke
 ep it uncluttered to avoid distractions.SafetyWarm-up: Always warm up befo
 re each session to prepare your body and prevent injuries.Safe Technique: 
 Pay close attention to the instructor&#39\;s guidance on proper form and t
 echnique to minimise the risk of injury.Listen to Your Body: Stop immediat
 ely and inform the instructor if you feel pain or discomfort.Equipment and
  ConnectivityOne Person\, One Device: Each participant should use their ow
 n device for optimal engagement and to avoid distractions.Reliable Interne
 t: A stable Internet connection is crucial for seamless participation.Devi
 ce Placement: Position your device so the instructor has a clear view of y
 ou from head to toe.Device Check: Test your audio and video settings befor
 e the meeting to avoid delays.Meeting EtiquettePunctuality: Join the meeti
 ngs on time to show respect for the instructor and fellow participants.Mut
 e When Not Speaking: Keep your microphone muted when you&#39\;re not speak
 ing to prevent background noise disruptions.Active Participation: Discuss\
 , ask questions\, and contribute to the learning environment.Respectful Co
 mmunication: Maintain a professional and respectful tone in all interactio
 ns.Minimize Distractions: Avoid multitasking or browsing other websites du
 ring the training.Additional NotesTraining Uniform: Wear your Karate unifo
 rm with the awarded belt during the training sessions. Technical Issues: I
 f you experience technical difficulties\, please inform the instructor or 
 use the chat feature to seek assistance.Breaks: Regular breaks will be sch
 eduled into the training sessions.We look forward to welcoming you to the 
 program and supporting your journey towards Black Belt excellence!
LOCATION:
END:VEVENT
END:VCALENDAR
