BEGIN:VCALENDAR
VERSION:2.0
PRODID:-//chikkutakku.com//RDFCal 1.0//EN
X-WR-CALDESC:GoogleカレンダーやiCalendar形式情報を共有シェ
 アしましょう。近所のイベントから全国のイベントま
 で今日のイベント検索やスケジュールを決めるならち
 っくたっく
X-WR-CALNAME:ちっくたっく
X-WR-TIMEZONE:UTC
BEGIN:VEVENT
SUMMARY:AVID\, StuGo and DECA \, JRE Spring Fling 
DTSTART;VALUE=DATE-TIME:20260423T220000Z
DTEND;VALUE=DATE-TIME:20260424T010000Z
UID:119715254487
DESCRIPTION: Mrs Harpe requested I enter the form data into calendar. I v
 erified with Trevillyan the date on form was incorrect. I entered event at
  JRE for 04/23/26 and deleted the 04/13/26\, which was in error. I verifie
 d with Juline Curtis the location at JRE prior to entering. RH
LOCATION:JRE Library
END:VEVENT
END:VCALENDAR
