BEGIN:VCALENDAR
VERSION:2.0
PRODID:-//chikkutakku.com//RDFCal 1.0//EN
X-WR-CALDESC:GoogleカレンダーやiCalendar形式情報を共有シェ
 アしましょう。近所のイベントから全国のイベントま
 で今日のイベント検索やスケジュールを決めるならち
 っくたっく
X-WR-CALNAME:ちっくたっく
X-WR-TIMEZONE:UTC
BEGIN:VEVENT
SUMMARY:ワンピース #1158 「謎の国の探索(クエスト)！太陽
 神の秘密」
DTSTART;VALUE=DATE-TIME:20260425T130000Z
DTEND;VALUE=DATE-TIME:20260425T133000Z
UID:119923710804
DESCRIPTION:1158 / 謎の国の探索(クエスト)！太陽神の秘密 /
  ([[ONE PIECEチャンネル https://abema.tv/timetable/channels/onepiece]
 ])
LOCATION:ABEMA特設その他
END:VEVENT
END:VCALENDAR
