BEGIN:VCALENDAR
VERSION:2.0
PRODID:-//chikkutakku.com//RDFCal 1.0//EN
X-WR-CALDESC:GoogleカレンダーやiCalendar形式情報を共有シェ
 アしましょう。近所のイベントから全国のイベントま
 で今日のイベント検索やスケジュールを決めるならち
 っくたっく
X-WR-CALNAME:ちっくたっく
X-WR-TIMEZONE:UTC
BEGIN:VEVENT
SUMMARY:ワカナ（courtesea）、courtesea＠Wakana 20th Anniversary Liv
 e　〜二十歳だョ！全員集合〜
DTSTART;VALUE=DATE-TIME:20260524T053000Z
DTEND;VALUE=DATE-TIME:20260524T070000Z
UID:119954287530
DESCRIPTION:《公演詳細》公演名：Wakana 20th Anniversary Live　
 〜二十歳だョ！全員集合〜開催日時：2026年5月24日（日)
 開場14:00/開演14:30会場：新潟 ジョイアミーア　（新潟
 市中央区東堀通7番町1016-1）　https://niigata-gioiamia.com/出
 演：ワカナ /courtesea《チケット》全席指定  一般　￥3\,
 500 (税込)　　　　  専門学生・大学生 ￥1\,500(税込)   
               小中高生 ￥1\,000 (税込)　　お申込・詳
 細はコチラ
LOCATION:ジョイアミーア\, 日本、〒951-8065 新潟県新潟市
 中央区東堀通７番町１０１６−１ 東堀斎藤ビル東堀パ
 ーク600 1F
END:VEVENT
END:VCALENDAR
