BEGIN:VCALENDAR
VERSION:2.0
PRODID:-//chikkutakku.com//RDFCal 1.0//EN
X-WR-CALDESC:GoogleカレンダーやiCalendar形式情報を共有シェ
 アしましょう。近所のイベントから全国のイベントま
 で今日のイベント検索やスケジュールを決めるならち
 っくたっく
X-WR-CALNAME:ちっくたっく
X-WR-TIMEZONE:UTC
BEGIN:VEVENT
SUMMARY:いわし@日吉Wander Wall Yokohama
DTSTART;VALUE=DATE:20260508
DTEND;VALUE=DATE:20260509
UID:120251350854
DESCRIPTION:グランド・ピアノで生いわし！\nい、井上ｲﾉ
 ﾔﾝ尚彦(Dr)\nわ、和佐田達彦(B)\nし、進藤陽悟(Pf)\n17:30
 オープン/18:30スタート\n¥4400
LOCATION:WonderWall-Yokohama\, 日本、〒223-0061 神奈川県横浜市
 港北区日吉２丁目６−６ 日吉壱番館 B1F
END:VEVENT
END:VCALENDAR
