BEGIN:VCALENDAR
VERSION:2.0
PRODID:-//chikkutakku.com//RDFCal 1.0//EN
X-WR-CALDESC:GoogleカレンダーやiCalendar形式情報を共有シェ
 アしましょう。近所のイベントから全国のイベントま
 で今日のイベント検索やスケジュールを決めるならち
 っくたっく
X-WR-CALNAME:ちっくたっく
X-WR-TIMEZONE:UTC
BEGIN:VEVENT
SUMMARY:【Android 対応】相席居酒屋響【初見初心者歓迎】
DTSTART;VALUE=DATE-TIME:20260424T113000Z
DTEND;VALUE=DATE-TIME:20260424T123000Z
UID:120802304506
DESCRIPTION:【イベント主催者】\n　たまま！\n【イベント
 内容】\n　当店のイベントは、４人１テーブルのローテ
 ンション方式になっており一回１5分間の3回交代となっ
 ております。フレンドを作りたい方やお酒飲みながら
 話したい方にお勧めです。\n【イベントジャンル】\n　
 その他交流会\, VR飲み会\, 初心者向けイベント\, 定期イ
 ベント\n【参加条件（モデル、人数制限など）】\n　極
 端に負荷のかかるアバター、R18に抵触するアバターで
 のご参加はご遠慮ください。\nまた、店内での抜刀･発
 砲や他の方に干渉してしまうギミックなどもご遠慮く
 ださい。\n【参加方法】\n　グループ参加後、時間にな
 りましたらグループインスタンスにご入場ください。
 　\nグループid.HIBIKI.0468\n【備考】\n　相席居酒屋響 毎
 週金20˸30~21˸30\nBar響 第2\,第3水曜日21˸00~22˸00\nCafe響 第4
 木曜日20˸30~21˸30\nExercise響｛不定期｝\nNightClub響｛不定
 期｝
LOCATION:
END:VEVENT
END:VCALENDAR
