BEGIN:VCALENDAR
VERSION:2.0
PRODID:-//chikkutakku.com//RDFCal 1.0//EN
X-WR-CALDESC:GoogleカレンダーやiCalendar形式情報を共有シェ
 アしましょう。近所のイベントから全国のイベントま
 で今日のイベント検索やスケジュールを決めるならち
 っくたっく
X-WR-CALNAME:ちっくたっく
X-WR-TIMEZONE:UTC
BEGIN:VEVENT
SUMMARY:夜中のポップコーン
DTSTART;VALUE=DATE-TIME:20260518T150000Z
DTEND;VALUE=DATE-TIME:20260519T150000Z
UID:120925237302
DESCRIPTION:B級映画のテレビ放送を機に集まった3人が繰り
 広げる、映画愛あふれる気まずい女子会を描いたワン
 シチュエーションのコメディ。自主制作映画の登竜門
 として知られる第19回田辺・弁慶映画祭でキネマイスタ
 ー賞を受賞した。\n\nある金曜日の夜、カルト的な人気
 を持つB級モンスターパニック映画「ザ・グロース」の
 テレビ放送を見るため、三澤の自宅に3人の女子が集ま
 る。この鑑賞会を主催した三澤に招かれた長田と松野
 は初対面だったが、主催者である三澤の不意の不在に
 より、2人はぎこちない鑑賞会を過ごすことになる。し
 かし、時とともに心を許すようになり、映画にまつわ
 る思い出を語っていくうちに、この日集まった3人の因
 縁や悔恨が明らかになっていく。\n\n監督は、舞台演出
 家の顔も持ち、2021年には「自宅警備員と家事妖精」で
 劇場長編映画の監督デビューも果たした藤本匠。脚本
 は、自身も俳優として活動しながら舞台の企画・脚本
 ・演出なども手がける谷風作。田辺・弁慶映画祭の受
 賞作品を上映する「田辺・弁慶映画祭セレクション2026
 」（26年5月8日～28日＝テアトル新宿／26年6月13日～18日
 ＝テアトル梅田）で劇場上映。\n作品紹介ページ：https:
 //eiga.com/movie/105835/
LOCATION:
END:VEVENT
END:VCALENDAR
