BEGIN:VCALENDAR
VERSION:2.0
PRODID:-//chikkutakku.com//RDFCal 1.0//EN
X-WR-CALDESC:GoogleカレンダーやiCalendar形式情報を共有シェ
 アしましょう。近所のイベントから全国のイベントま
 で今日のイベント検索やスケジュールを決めるならち
 っくたっく
X-WR-CALNAME:ちっくたっく
X-WR-TIMEZONE:UTC
BEGIN:VEVENT
SUMMARY:U13-2nd、TRM
DTSTART;VALUE=DATE-TIME:20260425T230000Z
DTEND;VALUE=DATE-TIME:20260426T040000Z
UID:121516650475
DESCRIPTION:9時 vs エスコーデ野田（25分×8）@S14\n\n※参加
 費800円\n\n※メンバーは決まり次第掲載します。\n\n※担
 当\n和阪コーチ
LOCATION:J-GREEN堺\, 日本、〒590-0901 大阪府堺市堺区築港八
 幡町１４５
END:VEVENT
END:VCALENDAR
