BEGIN:VCALENDAR
VERSION:2.0
PRODID:-//chikkutakku.com//RDFCal 1.0//EN
X-WR-CALDESC:GoogleカレンダーやiCalendar形式情報を共有シェ
 アしましょう。近所のイベントから全国のイベントま
 で今日のイベント検索やスケジュールを決めるならち
 っくたっく
X-WR-CALNAME:ちっくたっく
X-WR-TIMEZONE:UTC
BEGIN:VEVENT
SUMMARY:あおむしが きらいな 王子さま
DTSTART;VALUE=DATE:20260517
DTEND;VALUE=DATE:20260518
UID:121669096866
DESCRIPTION:2026-05-18あおむしが きらいな 王子さまホアン
 ・イーウェン/ホアン・イーウェン/中村加代子月とコン
 パス
LOCATION:
END:VEVENT
END:VCALENDAR
