BEGIN:VCALENDAR
VERSION:2.0
PRODID:-//chikkutakku.com//RDFCal 1.0//EN
X-WR-CALDESC:GoogleカレンダーやiCalendar形式情報を共有シェ
 アしましょう。近所のイベントから全国のイベントま
 で今日のイベント検索やスケジュールを決めるならち
 っくたっく
X-WR-CALNAME:ちっくたっく
X-WR-TIMEZONE:UTC
BEGIN:VEVENT
SUMMARY:世界名作全集1
DTSTART;VALUE=DATE:20260423
DTEND;VALUE=DATE:20260426
UID:121728767052
DESCRIPTION:\n【関連/参考ページ】\nhttps://stage.corich.jp/stage/
 446490
LOCATION:横浜ベイサイドスタジオ【関東】
END:VEVENT
END:VCALENDAR
