BEGIN:VCALENDAR
VERSION:2.0
PRODID:-//chikkutakku.com//RDFCal 1.0//EN
X-WR-CALDESC:GoogleカレンダーやiCalendar形式情報を共有シェ
 アしましょう。近所のイベントから全国のイベントま
 で今日のイベント検索やスケジュールを決めるならち
 っくたっく
X-WR-CALNAME:ちっくたっく
X-WR-TIMEZONE:UTC
BEGIN:VEVENT
SUMMARY:(ทุกคน) ร่วมกิจกรรมนุ่งผ
 ้าไทยใส่บาตร ณ ลานโคปุระ เ
 กาะห้วยน้ำคำ การแต่งกาย ชุ
 ดผ้าไทย /ผ้าพื้นเมือง โทนส
 ีไว้ทุกข์
DTSTART;VALUE=DATE-TIME:20260420T233000Z
DTEND;VALUE=DATE-TIME:20260421T003000Z
UID:121928860404
DESCRIPTION:(ทุกคน) ร่วมกิจกรรมนุ่
 งผ้าไทยใส่บาตร ณ ลานโคปุระ
  เกาะห้วยน้ำคำ การแต่งกาย 
 ชุดผ้าไทย /ผ้าพื้นเมือง โท
 นสีไว้ทุกข์
LOCATION:
END:VEVENT
END:VCALENDAR
