BEGIN:VCALENDAR
VERSION:2.0
PRODID:-//chikkutakku.com//RDFCal 1.0//EN
X-WR-CALDESC:GoogleカレンダーやiCalendar形式情報を共有シェ
 アしましょう。近所のイベントから全国のイベントま
 で今日のイベント検索やスケジュールを決めるならち
 っくたっく
X-WR-CALNAME:ちっくたっく
X-WR-TIMEZONE:UTC
BEGIN:VEVENT
SUMMARY:President’s ride 
DTSTART;VALUE=DATE-TIME:20260424T173000Z
DTEND;VALUE=DATE-TIME:20260424T190000Z
UID:122834359914
DESCRIPTION:Start location\; flemingville Bap Church to speedsville.\n20mi
 \nRide leader Kevin C\n607-341-1627
LOCATION:
END:VEVENT
END:VCALENDAR
