BEGIN:VCALENDAR
VERSION:2.0
PRODID:-//chikkutakku.com//RDFCal 1.0//EN
X-WR-CALDESC:GoogleカレンダーやiCalendar形式情報を共有シェ
 アしましょう。近所のイベントから全国のイベントま
 で今日のイベント検索やスケジュールを決めるならち
 っくたっく
X-WR-CALNAME:ちっくたっく
X-WR-TIMEZONE:UTC
BEGIN:VEVENT
SUMMARY:BeatleBeat. Hardrock Hollywood Fl Corp event 
DTSTART;VALUE=DATE-TIME:20260516T230000Z
DTEND;VALUE=DATE-TIME:20260517T020000Z
UID:122948295423
DESCRIPTION:BeatleBeat. Hardrock Hollywood Fl Corp event 
LOCATION:Hard Rock Casino Hollywood Fl 
END:VEVENT
END:VCALENDAR
