BEGIN:VCALENDAR
VERSION:2.0
PRODID:-//chikkutakku.com//RDFCal 1.0//EN
X-WR-CALDESC:GoogleカレンダーやiCalendar形式情報を共有シェ
 アしましょう。近所のイベントから全国のイベントま
 で今日のイベント検索やスケジュールを決めるならち
 っくたっく
X-WR-CALNAME:ちっくたっく
X-WR-TIMEZONE:UTC
BEGIN:VEVENT
SUMMARY:Yr 1-4 Cross Country
DTSTART;VALUE=DATE:20260506
DTEND;VALUE=DATE:20260507
UID:122964265756
DESCRIPTION:Yr 1-4 Cross Country
LOCATION:MENPS
END:VEVENT
END:VCALENDAR
