BEGIN:VCALENDAR
VERSION:2.0
PRODID:-//chikkutakku.com//RDFCal 1.0//EN
X-WR-CALDESC:GoogleカレンダーやiCalendar形式情報を共有シェ
 アしましょう。近所のイベントから全国のイベントま
 で今日のイベント検索やスケジュールを決めるならち
 っくたっく
X-WR-CALNAME:ちっくたっく
X-WR-TIMEZONE:UTC
BEGIN:VEVENT
SUMMARY:9 utes and trailers to park at hall
DTSTART;VALUE=DATE-TIME:20260507T200000Z
DTEND;VALUE=DATE-TIME:20260507T210000Z
UID:123383178429
DESCRIPTION:9 utes and trailers to park at hall
LOCATION:
END:VEVENT
END:VCALENDAR
