BEGIN:VCALENDAR
VERSION:2.0
PRODID:-//chikkutakku.com//RDFCal 1.0//EN
X-WR-CALDESC:GoogleカレンダーやiCalendar形式情報を共有シェ
 アしましょう。近所のイベントから全国のイベントま
 で今日のイベント検索やスケジュールを決めるならち
 っくたっく
X-WR-CALNAME:ちっくたっく
X-WR-TIMEZONE:UTC
BEGIN:VEVENT
SUMMARY:Ariane 64 • Amazon Leo
DTSTART;VALUE=DATE-TIME:20260428T085100Z
DTEND;VALUE=DATE-TIME:20260428T093900Z
UID:123606217493
DESCRIPTION:Arianespace will launch an Ariane 6 rocket\, on a flight desig
 nated VA268\, to put a batch of 32 operational satellites for Amazon's Kui
 per constellation. The mission is known as LE-02 by Amazon. The constellat
 ion will number 3236 satellites\, spread out in 98 orbital planes\, or pat
 hways\, crisscrossing the planet at an average altitude of about 610km. In
  its license application with the Federal Communications Commission\, Amaz
 on said the Kuiper satellites will fly in mid-inclination orbits\, enablin
 g Internet service for customers between 56 degrees north and south latitu
 de. Ariane 6 will fly in the Ariane 64 configuration\, using 4 solid rocke
 t boosters and a long fairing.\n-\nDelayed from late March.\n\nWebcast:\nh
 ttps://www.arianespace.com/road-to-space/
LOCATION:ELA4 (l'Ensemble de Lancement Ariane 6) - Centre Spatial Guyanais
 \, Französisch-Guyana
END:VEVENT
END:VCALENDAR
