BEGIN:VCALENDAR
VERSION:2.0
PRODID:-//chikkutakku.com//RDFCal 1.0//EN
X-WR-CALDESC:GoogleカレンダーやiCalendar形式情報を共有シェ
 アしましょう。近所のイベントから全国のイベントま
 で今日のイベント検索やスケジュールを決めるならち
 っくたっく
X-WR-CALNAME:ちっくたっく
X-WR-TIMEZONE:UTC
BEGIN:VEVENT
SUMMARY:社會情緒學習講座-【讓自己慢下來，好好放鬆】
 香氛與色彩x情緒調節(林園)
DTSTART;VALUE=DATE-TIME:20260508T103000Z
DTEND;VALUE=DATE-TIME:20260508T123000Z
UID:123940025760
DESCRIPTION:社會情緒學習講座-【讓自己慢下來，好好放鬆
 】香氛與色彩x情緒調節(林園)
LOCATION:
END:VEVENT
END:VCALENDAR
