BEGIN:VCALENDAR
VERSION:2.0
PRODID:-//chikkutakku.com//RDFCal 1.0//EN
X-WR-CALDESC:GoogleカレンダーやiCalendar形式情報を共有シェ
 アしましょう。近所のイベントから全国のイベントま
 で今日のイベント検索やスケジュールを決めるならち
 っくたっく
X-WR-CALNAME:ちっくたっく
X-WR-TIMEZONE:UTC
BEGIN:VEVENT
SUMMARY:BD タリロトゥ・ファカトゥロロ
DTSTART;VALUE=DATE-TIME:20260519T150000Z
DTEND;VALUE=DATE-TIME:20260520T150000Z
UID:124652484667
DESCRIPTION:2001年5月20日タリロトゥ・ファカトゥロロ 選手
 ページ
LOCATION:
END:VEVENT
END:VCALENDAR
