BEGIN:VCALENDAR
VERSION:2.0
PRODID:-//chikkutakku.com//RDFCal 1.0//EN
X-WR-CALDESC:GoogleカレンダーやiCalendar形式情報を共有シェ
 アしましょう。近所のイベントから全国のイベントま
 で今日のイベント検索やスケジュールを決めるならち
 っくたっく
X-WR-CALNAME:ちっくたっく
X-WR-TIMEZONE:UTC
BEGIN:VEVENT
SUMMARY:コミック乱 2026年06月号
DTSTART;VALUE=DATE:20260426
DTEND;VALUE=DATE:20260427
UID:124935752530
DESCRIPTION:2026-04-27コミック乱 2026年06月号さいとう・たか
 を/宮下英樹/崗田屋愉一/叶精作/黒田硫黄/フジオ・プロ
 （劇画部）/とみ新蔵/ｒｉｎ/八月薫/大島やすいちリイ
 ド社
LOCATION:
END:VEVENT
END:VCALENDAR
