BEGIN:VCALENDAR
VERSION:2.0
PRODID:-//chikkutakku.com//RDFCal 1.0//EN
X-WR-CALDESC:GoogleカレンダーやiCalendar形式情報を共有シェ
 アしましょう。近所のイベントから全国のイベントま
 で今日のイベント検索やスケジュールを決めるならち
 っくたっく
X-WR-CALNAME:ちっくたっく
X-WR-TIMEZONE:UTC
BEGIN:VEVENT
SUMMARY:海潮音【Blu-ray】
DTSTART;VALUE=DATE:20260519
DTEND;VALUE=DATE:20260520
UID:125128313199
DESCRIPTION:2026-05-20海潮音【Blu-ray】池部良/荻野目慶子/山
 口果林/泉谷しげる/上月左知子/烏丸せつこ/橋浦方人/深
 町純キングレコード(株)
LOCATION:
END:VEVENT
END:VCALENDAR
