BEGIN:VCALENDAR
VERSION:2.0
PRODID:-//chikkutakku.com//RDFCal 1.0//EN
X-WR-CALDESC:GoogleカレンダーやiCalendar形式情報を共有シェ
 アしましょう。近所のイベントから全国のイベントま
 で今日のイベント検索やスケジュールを決めるならち
 っくたっく
X-WR-CALNAME:ちっくたっく
X-WR-TIMEZONE:UTC
BEGIN:VEVENT
SUMMARY:I.R.S.(ｲﾉﾔﾝﾙｰﾃﾞｨﾒﾝﾂｽｸｰﾙ)
DTSTART;VALUE=DATE:20260518
DTEND;VALUE=DATE:20260519
UID:125348146923
DESCRIPTION:【お知らせ】\nI.R.C.(ｲﾉﾔﾝﾙｰﾃﾞｨﾒﾝ
 ﾂｸﾗﾌﾞ)改めこれからはI.R.S.(ｲﾉﾔﾝﾙｰﾃﾞｨﾒ
 ﾝｽｸｰﾙ)として毎月開催していきます\n曜日と時間
 は以前と変わらず　■毎月第三火曜日13:00-16:00(3時間グ
 ループレッスン)\n場所が高井戸音楽School&Studioに変わり
 ます http://www.takaidomusic.com/music/\n\n■月額定額制コース(
 毎月来られる方)\n¥4500/3h 毎月事前の振り込みとなりま
 す\n■不定期自由参加制コース(毎月は難しいという方)\
 n¥6000/3h (事前の予約が必要です)※お支払いは当日現金
 のみとなります\n\n問い合わせは直接私まで。\ninoyandrum7
 12@docomo.ne.jp\n\nドラムの基本であるRudimentsをワイワイ楽
 しくみんなで練習しましょう！可能ならば練習台持っ
 て来てね🥁
LOCATION:高井戸音楽スタジオ\, 日本、〒168-0081 東京都杉
 並区宮前１丁目２０−３２ 宮前一丁目ビル
END:VEVENT
END:VCALENDAR
