BEGIN:VCALENDAR
VERSION:2.0
PRODID:-//chikkutakku.com//RDFCal 1.0//EN
X-WR-CALDESC:GoogleカレンダーやiCalendar形式情報を共有シェ
 アしましょう。近所のイベントから全国のイベントま
 で今日のイベント検索やスケジュールを決めるならち
 っくたっく
X-WR-CALNAME:ちっくたっく
X-WR-TIMEZONE:UTC
BEGIN:VEVENT
SUMMARY:Cafe花びより
DTSTART;VALUE=DATE-TIME:20260421T130000Z
DTEND;VALUE=DATE-TIME:20260421T140000Z
UID:125615416191
DESCRIPTION:【イベント主催者】\n　ぼちゃん。\n【イベン
 ト内容】\n　【Cafe花びより】\n・普段見かける何気ない
 お花達…、お人間さん達とお話をしたい！！その強い
 思いから擬人化してカフェを経営しちゃいました*･\n
 ・お花に囲まれた癒し空間の雑談系カフェイベント\n・
 担当フラワーが割り振られたかわいらしいキャストさ
 んがおもてなししてくれます！\n・一定周期ごとにラテ
 アートのデザインが変わりますので是非ご注目！\n・初
 心者・無言勢大歓迎\n\n※季節のイベントも予定してい
 ます\n\n隔週火曜日22時～\n22:00～　OPEN\n～22:25　第１ロ
 ーテ\n～22:50　第２ローテ\n22:50～　集合写真撮影\n23:00
 ～　アフター(自由解散)\n【イベントジャンル】\n　店
 舗系イベント\, 初心者向けイベント\n【参加条件（モデ
 ル、人数制限など）】\n　アバター容量50MB以下\n【参加
 方法】\n　グループインスタンスで開催\n※グループに
 参加の上お越しください\n（https://vrc.group/HNBYR.5054）\n【
 備考】\n　【注意事項】\n・アバター容量50MB以下\n・イ
 ベントキャスト及びスタッフの指示に従わない行為\n・
 NSFWの使用\n・VRchat、アバターの利用規約に違反する行
 為\n・キャストに許可のない過度な接近行為\n・イベン
 トインスタンス中での従業員へのフレンド申請行為\n・
 視界ジャック、パーティクル、その他ギミック等によ
 る迷惑行為\n・ほかお客様の迷惑になるような言動、行
 動\n\n以上上記に違反した場合、対処（キック・今後の
 当イベントへの参加不可）させていただきます
LOCATION:
END:VEVENT
END:VCALENDAR
