BEGIN:VCALENDAR
VERSION:2.0
PRODID:-//chikkutakku.com//RDFCal 1.0//EN
X-WR-CALDESC:GoogleカレンダーやiCalendar形式情報を共有シェ
 アしましょう。近所のイベントから全国のイベントま
 で今日のイベント検索やスケジュールを決めるならち
 っくたっく
X-WR-CALNAME:ちっくたっく
X-WR-TIMEZONE:UTC
BEGIN:VEVENT
SUMMARY:Open - Katelyn
DTSTART;VALUE=DATE-TIME:20260422T221500Z
DTEND;VALUE=DATE-TIME:20260423T013000Z
UID:126979487197
DESCRIPTION:Open - Katelyn
LOCATION:
END:VEVENT
END:VCALENDAR
