BEGIN:VCALENDAR
VERSION:2.0
PRODID:-//chikkutakku.com//RDFCal 1.0//EN
X-WR-CALDESC:GoogleカレンダーやiCalendar形式情報を共有シェ
 アしましょう。近所のイベントから全国のイベントま
 で今日のイベント検索やスケジュールを決めるならち
 っくたっく
X-WR-CALNAME:ちっくたっく
X-WR-TIMEZONE:UTC
BEGIN:VEVENT
SUMMARY:【Android 対応】ソーラン節を踊ろう
DTSTART;VALUE=DATE-TIME:20260423T113000Z
DTEND;VALUE=DATE-TIME:20260423T120000Z
UID:127609256190
DESCRIPTION:【イベント主催者】\n　maguro_\n【イベント内容
 】\n　ソーラン節を踊りませんか？\n初心者の方でも大
 歓迎です\n皆様の参加お待ちしています！\n【イベント
 ジャンル】\n　その他交流会\n【参加条件（モデル、人
 数制限など）】\n　特になし。(デスクトップでも参加OK
 ！)\n【参加方法】\n　Group(SORAN.3650)にJoin\n【備考】\n　
LOCATION:
END:VEVENT
END:VCALENDAR
