BEGIN:VCALENDAR
VERSION:2.0
PRODID:-//chikkutakku.com//RDFCal 1.0//EN
X-WR-CALDESC:GoogleカレンダーやiCalendar形式情報を共有シェ
 アしましょう。近所のイベントから全国のイベントま
 で今日のイベント検索やスケジュールを決めるならち
 っくたっく
X-WR-CALNAME:ちっくたっく
X-WR-TIMEZONE:UTC
BEGIN:VEVENT
SUMMARY:(รองเสกสรรค์)ประธานการอ
 อกประเมินรับรองรพ.ที่พัฒน
 าตามเกณฑ์ GREEN&CLEAN Hospital Challenge ระดับ
 มาตรฐาน และระดับดีเยี่ยม ส
 สจ.ศก.ปี2569 ณ รพ.กันทรลักษ์แล
 ะน้ำเกลี้ยง
DTSTART;VALUE=DATE-TIME:20260423T020000Z
DTEND;VALUE=DATE-TIME:20260423T093000Z
UID:128379449916
DESCRIPTION:(รองเสกสรรค์)ประธานการ
 ออกประเมินรับรองรพ.ที่พัฒ
 นาตามเกณฑ์ GREEN&CLEAN Hospital Challenge ระดั
 บมาตรฐาน และระดับดีเยี่ยม 
 สสจ.ศก.ปี2569 ณ รพ.กันทรลักษ์แ
 ละน้ำเกลี้ยง
LOCATION:
END:VEVENT
END:VCALENDAR
