BEGIN:VCALENDAR
VERSION:2.0
PRODID:-//chikkutakku.com//RDFCal 1.0//EN
X-WR-CALDESC:GoogleカレンダーやiCalendar形式情報を共有シェ
 アしましょう。近所のイベントから全国のイベントま
 で今日のイベント検索やスケジュールを決めるならち
 っくたっく
X-WR-CALNAME:ちっくたっく
X-WR-TIMEZONE:UTC
BEGIN:VEVENT
SUMMARY:Chateau Speedway Event
DTSTART;VALUE=DATE-TIME:20260508T210000Z
DTEND;VALUE=DATE-TIME:20260509T023000Z
UID:128477279446
DESCRIPTION:Regular Race Night - 5 Classes\nKids Night!  - 13 & Under FRE
 E admission!  Bike Giveaway
LOCATION:Chateau Speedway\, 54219 266 St\, Lansing\, MN 55950\, USA
END:VEVENT
END:VCALENDAR
