BEGIN:VCALENDAR
VERSION:2.0
PRODID:-//chikkutakku.com//RDFCal 1.0//EN
X-WR-CALDESC:GoogleカレンダーやiCalendar形式情報を共有シェ
 アしましょう。近所のイベントから全国のイベントま
 で今日のイベント検索やスケジュールを決めるならち
 っくたっく
X-WR-CALNAME:ちっくたっく
X-WR-TIMEZONE:UTC
BEGIN:VEVENT
SUMMARY:駆逐艦望月：進水日(1927)
DTSTART;VALUE=DATE-TIME:20260427T150000Z
DTEND;VALUE=DATE-TIME:20260428T150000Z
UID:128753536793
DESCRIPTION:　1923年（大正12年）度計画艦。1925年（大正15
 年）6月25日、浦賀船渠で建造予定の駆逐艦に「第三十
 三号駆逐艦」の艦名が与えられた[3]。なお同日附で「
 第35号駆逐艦(吹雪)」、「第40号駆逐艦(東雲)」も命名さ
 れている[4]。3隻とも一等駆逐艦に類別[5]。「第33号駆
 逐艦」は1926年3月23日に起工、1927年（昭和2年）4月28日
 に進水。10月31日に竣工、佐世保鎮守府に所属した。1928
 年（昭和3年）8月1日に「第33号駆逐艦」は「望月」と改
 名された[1]。
LOCATION:
END:VEVENT
END:VCALENDAR
