BEGIN:VCALENDAR
VERSION:2.0
PRODID:-//chikkutakku.com//RDFCal 1.0//EN
X-WR-CALDESC:GoogleカレンダーやiCalendar形式情報を共有シェ
 アしましょう。近所のイベントから全国のイベントま
 で今日のイベント検索やスケジュールを決めるならち
 っくたっく
X-WR-CALNAME:ちっくたっく
X-WR-TIMEZONE:UTC
BEGIN:VEVENT
SUMMARY:12:00nambar forest
DTSTART;VALUE=DATE:20260424
DTEND;VALUE=DATE:20260426
UID:129130632373
DESCRIPTION:【🎙️ライブ解禁🎙️】nambar forest ‘26( @namba
 rforest )4/25(土)・26(日) なんばパークス#カネヨリマサル 
 からVo&amp\;Gtちとせみなが弾き語りで出演します！観覧
 無料"井上竜馬＆木村雅人"のアコースティック編成で出
 演します！※日割りは後日発表 「なんばパークス prese
 nts namber forest ’26」会場：なんばパークス  ＜1F タワレ
 コステージ / 2F キャニオンコート / 8F 円形劇場＞OPEN 11:
 00／START 12:00-19:00入場無料※さとう。は4/26(日)に出演さ
 せていただきます2026-04-25出演アーティストを編集する1
 2:00～DENIMSプロフィール0014:15～伊東歌詞太郎プロフィー
 ル0016:45～折坂悠太プロフィール0018:15～Homecomingsプロフ
 ィール00ガーデンステージ2026-04-25出演アーティストを
 編集する13:30～大東まみプロフィール0015:30～ZILCONIAプロ
 フィール0017:30～汐れいらプロフィール00タワレコステ
 ージ2026-04-25出演アーティストを編集する12:45～hozzy (共
 演：田中ユウイチ)プロフィール0114:45～内田直孝プロフ
 ィール0016:15～ラックライフプロフィール002026-04-26出演
 アーティストを編集する12:00～‪平部雅洋プロフィール
 0014:15～ちとせみなプロフィール0016:45～あたらよプロフ
 ィール0118:15～天々高々プロフィール00ガーデンステー
 ジ2026-04-26出演アーティストを編集する13:30～おおはた
 雄一プロフィール0015:30～さとう。プロフィール0017:30～
 井上竜馬 (共演：木村雅人)プロフィール00タワレコステ
 ージ2026-04-26出演アーティストを編集する12:45～えんぷ
 ていプロフィール0014:45～インナージャーニープロフィ
 ール0016:15～&lt\;a href="<a href="https://www.livefans.j
LOCATION:なんばパークス
END:VEVENT
END:VCALENDAR
