BEGIN:VCALENDAR
VERSION:2.0
PRODID:-//chikkutakku.com//RDFCal 1.0//EN
X-WR-CALDESC:GoogleカレンダーやiCalendar形式情報を共有シェ
 アしましょう。近所のイベントから全国のイベントま
 で今日のイベント検索やスケジュールを決めるならち
 っくたっく
X-WR-CALNAME:ちっくたっく
X-WR-TIMEZONE:UTC
BEGIN:VEVENT
SUMMARY:団体
DTSTART;VALUE=DATE-TIME:20260424T013000Z
DTEND;VALUE=DATE-TIME:20260424T080000Z
UID:130245362015
DESCRIPTION:参加予定人数　25名\n小雨決行（荒天中止）\n
 参加対象　メンバーのみ
LOCATION:葉山町　長者ヶ崎、大浜、一色、森戸
END:VEVENT
END:VCALENDAR
