BEGIN:VCALENDAR
VERSION:2.0
PRODID:-//chikkutakku.com//RDFCal 1.0//EN
X-WR-CALDESC:GoogleカレンダーやiCalendar形式情報を共有シェ
 アしましょう。近所のイベントから全国のイベントま
 で今日のイベント検索やスケジュールを決めるならち
 っくたっく
X-WR-CALNAME:ちっくたっく
X-WR-TIMEZONE:UTC
BEGIN:VEVENT
SUMMARY:【Android 対応】木呑-モクノミ-　→MOK.5067へ参加
DTSTART;VALUE=DATE-TIME:20260423T120000Z
DTEND;VALUE=DATE-TIME:20260423T130000Z
UID:130469564463
DESCRIPTION:【イベント主催者】\n　･Mocchi\n【イベント内
 容】\n　お酒を呑みたいけどまったりとお話ししたい、
 お酒は呑まないけどお話がしたい。\nそんな人にゆった
 りと過ごせる場を提供したい。そんなイベントです( ˘
 ω˘ )\n全体的にまったりとお話しするイベントですので
 、お酒を呑まない方も歓迎です！\n※日によって話題に
 バラつきがありますので、お気に召さない際は日を改
 めて頂いても問題ありません。\n【イベントジャンル】
 \n　その他交流会\, VR飲み会\, 店舗系イベント\, 初心者
 向けイベント\, 定期イベント\n【参加条件（モデル、人
 数制限など）】\n　25人 1インスタンス開催\n【参加方法
 】\n　MOK.5067へ参加してグループインスタンス一覧から
 参加ください\n【備考】\n　https://x.com/Mokunomi0804/status/204
 6958417307460004?s=20
LOCATION:
END:VEVENT
END:VCALENDAR
