BEGIN:VCALENDAR
VERSION:2.0
PRODID:-//chikkutakku.com//RDFCal 1.0//EN
X-WR-CALDESC:GoogleカレンダーやiCalendar形式情報を共有シェ
 アしましょう。近所のイベントから全国のイベントま
 で今日のイベント検索やスケジュールを決めるならち
 っくたっく
X-WR-CALNAME:ちっくたっく
X-WR-TIMEZONE:UTC
BEGIN:VEVENT
SUMMARY:CanCam 2026年6月号（松村北斗「Walk with SixTONES #スト
 さんぽ vol.3」）
DTSTART;VALUE=DATE:20260422
DTEND;VALUE=DATE:20260423
UID:130765636229
DESCRIPTION:https://x.com/cancamtv/status/2043887006594543836
LOCATION:雑誌
END:VEVENT
END:VCALENDAR
