BEGIN:VCALENDAR
VERSION:2.0
PRODID:-//chikkutakku.com//RDFCal 1.0//EN
X-WR-CALDESC:GoogleカレンダーやiCalendar形式情報を共有シェ
 アしましょう。近所のイベントから全国のイベントま
 で今日のイベント検索やスケジュールを決めるならち
 っくたっく
X-WR-CALNAME:ちっくたっく
X-WR-TIMEZONE:UTC
BEGIN:VEVENT
SUMMARY:(รองอุทัย) ประชุมคณะกรรม
 การกีฬาจังหวัดศรีสะเกษ คร
 ั้งที่1 ประจำปีงบประมาณ พ.ศ.
  2569    ณ ห้องประชุมนพรัตน์ มหา
 วิทยาลัยการกีฬาแห่งชาติ ว
 ิทยาเขตศรีสะเกษ
DTSTART;VALUE=DATE-TIME:20260424T030000Z
DTEND;VALUE=DATE-TIME:20260424T050000Z
UID:130937108467
DESCRIPTION:(รองอุทัย) ประชุมคณะกร
 รมการกีฬาจังหวัดศรีสะเกษ 
 ครั้งที่1 ประจำปีงบประมาณ 
 พ.ศ. 2569    ณ ห้องประชุมนพรัตน์ 
 มหาวิทยาลัยการกีฬาแห่งชา
 ติ วิทยาเขตศรีสะเกษ
LOCATION:
END:VEVENT
END:VCALENDAR
