BEGIN:VCALENDAR
VERSION:2.0
PRODID:-//chikkutakku.com//RDFCal 1.0//EN
X-WR-CALDESC:GoogleカレンダーやiCalendar形式情報を共有シェ
 アしましょう。近所のイベントから全国のイベントま
 で今日のイベント検索やスケジュールを決めるならち
 っくたっく
X-WR-CALNAME:ちっくたっく
X-WR-TIMEZONE:UTC
BEGIN:VEVENT
SUMMARY:【Android 対応】【歌えるイベント】スナックくり
 魔りWeekly
DTSTART;VALUE=DATE-TIME:20260420T130000Z
DTEND;VALUE=DATE-TIME:20260420T185900Z
UID:131280086876
DESCRIPTION:【イベント主催者】\n　HK2（KUSAASOBI）\n【イベ
 ント内容】\n　【歌イベント×バー】ボイスで歌って遅
 延なく同期する新システムも登場！デュエットも可能
 な設備も用意されている高機能スナックだ！\n【イベン
 トジャンル】\n　VR飲み会\, 音楽系イベント\, 定期イベ
 ント\n【参加条件（モデル、人数制限など）】\n　基本p
 oor以下でお願いします。インスタンス分割なし。埋ま
 るまで参加可能です。 \n【参加方法】\n　Publicインスタ
 ンス(USWサーバー)のワールド JPTOWN ~PublicHomeWorld~に来て
 下さい。\n【備考】\n　X(ツイッター)で詳細を告知しま
 す。https://twitter.com/WAROSTUDIOGAMES
LOCATION:
END:VEVENT
END:VCALENDAR
