BEGIN:VCALENDAR
VERSION:2.0
PRODID:-//chikkutakku.com//RDFCal 1.0//EN
X-WR-CALDESC:GoogleカレンダーやiCalendar形式情報を共有シェ
 アしましょう。近所のイベントから全国のイベントま
 で今日のイベント検索やスケジュールを決めるならち
 っくたっく
X-WR-CALNAME:ちっくたっく
X-WR-TIMEZONE:UTC
BEGIN:VEVENT
SUMMARY:CMG: The Art of Giving Feedback - Even if You Are in an IC Role
DTSTART;VALUE=DATE-TIME:20260507T190000Z
DTEND;VALUE=DATE-TIME:20260507T201500Z
UID:131341408796
DESCRIPTION:Join this interactive workshop for Haas alumni with a focus on
  how to give feedback in a skillful way to your colleagues (or even to peo
 ple in your personal life).  You’ll have a chance to practice giving fe
 edback in a safe group learning environment. Register through CMG Bears&l
 t\;location-name&gt\;Virtual&lt\;/location-name&gt\; &lt\;event-type&gt\;
 Career Events&lt\;/event-type&gt\;
LOCATION:Virtual | Bay Area
END:VEVENT
END:VCALENDAR
