BEGIN:VCALENDAR
VERSION:2.0
PRODID:-//chikkutakku.com//RDFCal 1.0//EN
X-WR-CALDESC:GoogleカレンダーやiCalendar形式情報を共有シェ
 アしましょう。近所のイベントから全国のイベントま
 で今日のイベント検索やスケジュールを決めるならち
 っくたっく
X-WR-CALNAME:ちっくたっく
X-WR-TIMEZONE:UTC
BEGIN:VEVENT
SUMMARY:半神さまは修行中！ 恋に、スポーツに、謎解き
 に…!?（1）
DTSTART;VALUE=DATE:20260518
DTEND;VALUE=DATE:20260519
UID:131801170943
DESCRIPTION:2026-05-19半神さまは修行中！ 恋に、スポーツに
 、謎解きに…!?（1）ささきかつお/idonaka岩崎書店
LOCATION:
END:VEVENT
END:VCALENDAR
