BEGIN:VCALENDAR
VERSION:2.0
PRODID:-//chikkutakku.com//RDFCal 1.0//EN
X-WR-CALDESC:GoogleカレンダーやiCalendar形式情報を共有シェ
 アしましょう。近所のイベントから全国のイベントま
 で今日のイベント検索やスケジュールを決めるならち
 っくたっく
X-WR-CALNAME:ちっくたっく
X-WR-TIMEZONE:UTC
BEGIN:VEVENT
SUMMARY:【Android 対応】あなたの人生を語るイベント【Stor
 y of Life】
DTSTART;VALUE=DATE-TIME:20260428T120000Z
DTEND;VALUE=DATE-TIME:20260428T130000Z
UID:131870482400
DESCRIPTION:【イベント主催者】\n　ビジホマン｜Bizihoman\n
 【イベント内容】\n　あなたのお話をひたすら掘り下げ
 ます。話す内容を準備せずに来ても構いませんし、話
 題にNGもありません。些細な愚痴から過去の経験、思い
 出、今の悩み、将来の夢など、ネガティブな内容でも
 遠慮せずお話しください。\n【イベントジャンル】\n　
 その他交流会\n【参加条件（モデル、人数制限など）】
 \n　日本語話者且つ、自分の話を聞いてほしい方や自分
 のことについてだれかと考えたい方、何も考えてない
 けどインタビューを受けてみたい方など。人数制限１
 名。  \n【参加方法】\n　ビジホマン｜Bizihomanにフレン
 ド申請→時間になったら招待をリクエスト（Request_Invite
 ）\nリクイン受付＆イベント中はオレンジステータスで
 す。\nグループ【BZH.9891】に入ると通知が受け取れます
 。 \n\n【備考】\n　人生を振り返る機会はあまり多くな
 いと思います。私に話すことを通じて、新しい発見や
 振り返りの機会になれば嬉しいです。\n過去のイベント
 参加者たちの様子・感想はXにて #あなたの人生を語る
 イベント でチェック！\nhttps://twitter.com/japari_farm\nhttps://
 vrchat.com/home/group/grp_b735718d-9d56-4b82-a75f-83769030ef4f\n
LOCATION:
END:VEVENT
END:VCALENDAR
