BEGIN:VCALENDAR
VERSION:2.0
PRODID:-//chikkutakku.com//RDFCal 1.0//EN
X-WR-CALDESC:GoogleカレンダーやiCalendar形式情報を共有シェ
 アしましょう。近所のイベントから全国のイベントま
 で今日のイベント検索やスケジュールを決めるならち
 っくたっく
X-WR-CALNAME:ちっくたっく
X-WR-TIMEZONE:UTC
BEGIN:VEVENT
SUMMARY:副首都大阪勉強会　1800  JEC
DTSTART;VALUE=DATE-TIME:20260423T073000Z
DTEND;VALUE=DATE-TIME:20260423T120000Z
UID:132182419506
DESCRIPTION:副首都大阪勉強会　1800  JEC
LOCATION:
END:VEVENT
END:VCALENDAR
