BEGIN:VCALENDAR
VERSION:2.0
PRODID:-//chikkutakku.com//RDFCal 1.0//EN
X-WR-CALDESC:GoogleカレンダーやiCalendar形式情報を共有シェ
 アしましょう。近所のイベントから全国のイベントま
 で今日のイベント検索やスケジュールを決めるならち
 っくたっく
X-WR-CALNAME:ちっくたっく
X-WR-TIMEZONE:UTC
BEGIN:VEVENT
SUMMARY:Linh U +3 ( ) W/C trail w/ bri
DTSTART;VALUE=DATE-TIME:20260509T180000Z
DTEND;VALUE=DATE-TIME:20260509T193000Z
UID:133374440393
DESCRIPTION:Linh : 138 lbs 5’3”\nJen : 130   5’5”\nCarine: 122  5
 ’2”\nLindsey. 130.  5’ 4”\nPaying 1/2 deposit of $290\nOwe $290
LOCATION:
END:VEVENT
END:VCALENDAR
