BEGIN:VCALENDAR
VERSION:2.0
PRODID:-//chikkutakku.com//RDFCal 1.0//EN
X-WR-CALDESC:GoogleカレンダーやiCalendar形式情報を共有シェ
 アしましょう。近所のイベントから全国のイベントま
 で今日のイベント検索やスケジュールを決めるならち
 っくたっく
X-WR-CALNAME:ちっくたっく
X-WR-TIMEZONE:UTC
BEGIN:VEVENT
SUMMARY:末候 竹笋生(たけのこしょうず)
DTSTART;VALUE=DATE-TIME:20260515T150000Z
DTEND;VALUE=DATE-TIME:20260519T150000Z
UID:133517556065
DESCRIPTION:タケノコがひょっこりと顔を出す頃
LOCATION:
END:VEVENT
END:VCALENDAR
