BEGIN:VCALENDAR
VERSION:2.0
PRODID:-//chikkutakku.com//RDFCal 1.0//EN
X-WR-CALDESC:GoogleカレンダーやiCalendar形式情報を共有シェ
 アしましょう。近所のイベントから全国のイベントま
 で今日のイベント検索やスケジュールを決めるならち
 っくたっく
X-WR-CALNAME:ちっくたっく
X-WR-TIMEZONE:UTC
BEGIN:VEVENT
SUMMARY:Sustainability Conference for Responsible Research Computing (SC4R
 C)\, CERN
DTSTART;VALUE=DATE:20260503
DTEND;VALUE=DATE:20260508
UID:133949395565
DESCRIPTION:https://indico.cern.ch/event/1526482/
LOCATION:CERN
END:VEVENT
END:VCALENDAR
