BEGIN:VCALENDAR
VERSION:2.0
PRODID:-//chikkutakku.com//RDFCal 1.0//EN
X-WR-CALDESC:GoogleカレンダーやiCalendar形式情報を共有シェ
 アしましょう。近所のイベントから全国のイベントま
 で今日のイベント検索やスケジュールを決めるならち
 っくたっく
X-WR-CALNAME:ちっくたっく
X-WR-TIMEZONE:UTC
BEGIN:VEVENT
SUMMARY:『TAKUNO HOUSE』（タクノ・ハウス）
DTSTART;VALUE=DATE-TIME:20260422T060000Z
DTEND;VALUE=DATE-TIME:20260422T070000Z
UID:134012203847
DESCRIPTION:【イベント主催者】\n　タクじい\n【イベント
 内容】\n　僕は一寸　黙るつもりです。――\n\nこんに
 ちは、タクじいと申します。\n\nTAKUNO HOUSEは1つのアルバ
 ムを\n始まりから終わりを聴きながら喋る。\n\nそんな
 チル目的の集会イベントです。\nどうぞお気軽にお越し
 ください。\n\nタクじい\n【イベントジャンル】\n　音楽
 系イベント\n【参加条件（モデル、人数制限など）】\n
 　PC only\n【参加方法】\n　https://vrc.group/TAKUNO.1725 \nに参
 加後グループインスタンスにJoin!\n【備考】\n　今回の
 アルバムは\n『細野晴臣 - HOSONO HOUSE』
LOCATION:
END:VEVENT
END:VCALENDAR
