BEGIN:VCALENDAR
VERSION:2.0
PRODID:-//chikkutakku.com//RDFCal 1.0//EN
X-WR-CALDESC:GoogleカレンダーやiCalendar形式情報を共有シェ
 アしましょう。近所のイベントから全国のイベントま
 で今日のイベント検索やスケジュールを決めるならち
 っくたっく
X-WR-CALNAME:ちっくたっく
X-WR-TIMEZONE:UTC
BEGIN:VEVENT
SUMMARY:【注】REBORN! #180 雨の守護者の使命 / #181 激しき雷
 撃 / #182 静かなる嵐 / #183 孤高の浮雲 / #184 晴のち雲 / #1
 85 仕掛けられた罠 / #186 幻惑の霧 / #187 裏切りの記憶 / #
 188 I世(プリーモ)の意志
DTSTART;VALUE=DATE-TIME:20260422T190000Z
DTEND;VALUE=DATE-TIME:20260422T233000Z
UID:134172775964
DESCRIPTION: / #180 雨の守護者の使命 / #181 激しき雷撃 / #182
  静かなる嵐 / #183 孤高の浮雲 / #184 晴のち雲 / #185 仕掛
 けられた罠 / #186 幻惑の霧 / #187 裏切りの記憶 / #188 I世(
 プリーモ)の意志 / https://abema.tv/channels/00s-anime-1/slots/Ah77q
 MRRm8MYMD リピート放送は 4/23(木) 8:30～ https://abema.tv/channel
 s/00s-anime-1/slots/EvABN7krEU12FZ 、4/23(木) 17:30～ https://abema.tv/
 channels/00s-anime-1/slots/AkN7WQq8eUbhGT (無料TS1週間) https://prtime
 s.jp/main/html/rd/p/000002968.000064643.html
LOCATION:なつかしアニメ00's
END:VEVENT
END:VCALENDAR
